BEGIN:VCALENDAR
VERSION:2.0
PRODID:-//MOIC - ECPv6.15.20//NONSGML v1.0//EN
CALSCALE:GREGORIAN
METHOD:PUBLISH
X-WR-CALNAME:MOIC
X-ORIGINAL-URL:https://themoic.hscni.net
X-WR-CALDESC:Events for MOIC
REFRESH-INTERVAL;VALUE=DURATION:PT1H
X-Robots-Tag:noindex
X-PUBLISHED-TTL:PT1H
BEGIN:VTIMEZONE
TZID:Europe/London
BEGIN:DAYLIGHT
TZOFFSETFROM:+0000
TZOFFSETTO:+0100
TZNAME:BST
DTSTART:20250330T010000
END:DAYLIGHT
BEGIN:STANDARD
TZOFFSETFROM:+0100
TZOFFSETTO:+0000
TZNAME:GMT
DTSTART:20251026T010000
END:STANDARD
BEGIN:DAYLIGHT
TZOFFSETFROM:+0000
TZOFFSETTO:+0100
TZNAME:BST
DTSTART:20260329T010000
END:DAYLIGHT
BEGIN:STANDARD
TZOFFSETFROM:+0100
TZOFFSETTO:+0000
TZNAME:GMT
DTSTART:20261025T010000
END:STANDARD
BEGIN:DAYLIGHT
TZOFFSETFROM:+0000
TZOFFSETTO:+0100
TZNAME:BST
DTSTART:20270328T010000
END:DAYLIGHT
BEGIN:STANDARD
TZOFFSETFROM:+0100
TZOFFSETTO:+0000
TZNAME:GMT
DTSTART:20271031T010000
END:STANDARD
END:VTIMEZONE
BEGIN:VEVENT
DTSTART;VALUE=DATE:20260318
DTEND;VALUE=DATE:20260321
DTSTAMP:20260422T031545
CREATED:20260421T113950Z
LAST-MODIFIED:20260421T113950Z
UID:6886-1773792000-1774051199@themoic.hscni.net
SUMMARY:30th EAHP Congress in Barcelona
DESCRIPTION:Professor Michael Scott MBE and Anita Hogg recently attended the 30th EAHP Congress in Barcelona\, where they delivered two MOIC workshops on “Exploring Clinical Pharmacy Services in Hospitals: Innovations and Challenges.” Both sessions drew strong interest from colleagues across Europe
URL:https://themoic.hscni.net/event/30th-eahp-congress-in-barcelona/
LOCATION:The CCIB – Centre de Convencions Internacional de Barcelona\, Plaça de Willy Brandt 11-14\, Barcelona\, Spain
ATTACH;FMTTYPE=image/png:https://themoic.hscni.net/wp-content/uploads/2026/04/barcelona.png
END:VEVENT
END:VCALENDAR