BEGIN:VCALENDAR
VERSION:2.0
PRODID:-//MOIC - ECPv6.15.20//NONSGML v1.0//EN
CALSCALE:GREGORIAN
METHOD:PUBLISH
X-ORIGINAL-URL:https://themoic.hscni.net
X-WR-CALDESC:Events for MOIC
REFRESH-INTERVAL;VALUE=DURATION:PT1H
X-Robots-Tag:noindex
X-PUBLISHED-TTL:PT1H
BEGIN:VTIMEZONE
TZID:Europe/London
BEGIN:DAYLIGHT
TZOFFSETFROM:+0000
TZOFFSETTO:+0100
TZNAME:BST
DTSTART:20240331T010000
END:DAYLIGHT
BEGIN:STANDARD
TZOFFSETFROM:+0100
TZOFFSETTO:+0000
TZNAME:GMT
DTSTART:20241027T010000
END:STANDARD
BEGIN:DAYLIGHT
TZOFFSETFROM:+0000
TZOFFSETTO:+0100
TZNAME:BST
DTSTART:20250330T010000
END:DAYLIGHT
BEGIN:STANDARD
TZOFFSETFROM:+0100
TZOFFSETTO:+0000
TZNAME:GMT
DTSTART:20251026T010000
END:STANDARD
BEGIN:DAYLIGHT
TZOFFSETFROM:+0000
TZOFFSETTO:+0100
TZNAME:BST
DTSTART:20260329T010000
END:DAYLIGHT
BEGIN:STANDARD
TZOFFSETFROM:+0100
TZOFFSETTO:+0000
TZNAME:GMT
DTSTART:20261025T010000
END:STANDARD
BEGIN:DAYLIGHT
TZOFFSETFROM:+0000
TZOFFSETTO:+0100
TZNAME:BST
DTSTART:20270328T010000
END:DAYLIGHT
BEGIN:STANDARD
TZOFFSETFROM:+0100
TZOFFSETTO:+0000
TZNAME:GMT
DTSTART:20271031T010000
END:STANDARD
END:VTIMEZONE
BEGIN:VEVENT
DTSTART;TZID=Europe/London:20250831T080000
DTEND;TZID=Europe/London:20250903T170000
DTSTAMP:20260421T132759
CREATED:20250618T084320Z
LAST-MODIFIED:20250618T084320Z
UID:6469-1756627200-1756918800@themoic.hscni.net
SUMMARY:FIP Copenhagen 2025
DESCRIPTION:MOIC will be presenting work at FIP world congress 2025 in Copenhagen\, Denmark\, where the international pharmaceutical community will discuss the evolving role of the pharmacy profession in addressing modern healthcare challenges! \nFIP world congress 2025\, themed “Pharmacy Forward: Performance\, Collaboration\, and Health Transformation\,”  will explore how pharmacists can drive forward the performance of healthcare systems\, foster meaningful collaboration across sectors\, and catalyse transformative changes in health outcomes globally.
URL:https://themoic.hscni.net/event/fip-copenhagen-2025/
LOCATION:Bella Center\, Copenhagen.\, 2300 Copenhagen S\,\, Denmark
ATTACH;FMTTYPE=image/png:https://themoic.hscni.net/wp-content/uploads/2025/06/site_logo-scaled.png
END:VEVENT
BEGIN:VEVENT
DTSTART;VALUE=DATE:20251009
DTEND;VALUE=DATE:20251011
DTSTAMP:20260421T132759
CREATED:20251118T110325Z
LAST-MODIFIED:20251118T110325Z
UID:6725-1759968000-1760140799@themoic.hscni.net
SUMMARY:All Ireland Collaboration:  A Multidisciplinary Approach to  ANTIMICROBIAL STEWARDSHIP
DESCRIPTION:MOIC was delighted to host the 3rd All-Ireland Antimicrobial Stewardship (AMS) Conference 2025. The event brought together researchers\, healthcare professionals\, health and social care representatives\, policy makers and patient representatives from across Ireland to tackle the global threat of antimicrobial resistance (AMR). \nThe event was organised by MOIC\, CARA Network\, AMSInsight\, Trinity College Dublin\, University College Cork and University College Dublin and was supported by HSC Public Health Agency
URL:https://themoic.hscni.net/event/all-ireland-collaboration-a-multidisciplinary-approach-to-antimicrobial-stewardship/
LOCATION:Hilton Hotel\, 4 Lanyon Place\, Belfast\, BT1 3LP\, United Kingdom
ATTACH;FMTTYPE=image/png:https://themoic.hscni.net/wp-content/uploads/2025/11/Conf-Banner-1-002.png
END:VEVENT
BEGIN:VEVENT
DTSTART;VALUE=DATE:20251015
DTEND;VALUE=DATE:20251017
DTSTAMP:20260421T132759
CREATED:20251118T112714Z
LAST-MODIFIED:20251118T155430Z
UID:6729-1760486400-1760659199@themoic.hscni.net
SUMMARY:NICON25: Reset | Shaping Health and Social Care for the Future
DESCRIPTION:MOIC were delighted to attend NICON25\, Northern Ireland’s premiere health & social care conference. In the Health Innovation & Economy Network Zone\, Mezzanine. Mike Scott\, MOIC\, shared insights in an ‘On-the-Sofa Conversation’ about how MOIC is advancing innovation in health and social care. \n 
URL:https://themoic.hscni.net/event/nicon25-reset-shaping-health-and-social-care-for-the-future/
LOCATION:La Mon Hotel\, 41 Gransha Rd\, Comber\, Belfast\, BT23 5RF\, United Kingdom
ATTACH;FMTTYPE=image/png:https://themoic.hscni.net/wp-content/uploads/2025/11/NICON-e1763463967888.png
END:VEVENT
BEGIN:VEVENT
DTSTART;VALUE=DATE:20251016
DTEND;VALUE=DATE:20251019
DTSTAMP:20260421T132759
CREATED:20251118T154937Z
LAST-MODIFIED:20251118T155353Z
UID:6737-1760572800-1760831999@themoic.hscni.net
SUMMARY:4th Croatian Congress Of Clinical Pharmacy
DESCRIPTION:The 4th Croatian Congress of Clinical Pharmacy plans brought together eminent experts from various fields of pharmacotherapy from Croatia and other countries. The Congress covered topics in the field of pharmacotherapy management and complications of cardiovascular diseases\, hematological diseases\, nephrological diseases\, infectious diseases and inflammatory diseases in gastroenterology and rheumatology.  Professor Cathy Harrison\, Department of Health NI and Anita Hogg were excited to share work on NI innovative clinical pharmacy practices at the congress in Zagreb. \n  \n 
URL:https://themoic.hscni.net/event/4th-croatian-congress-of-clinical-pharmacy/
LOCATION:Hilton Garden Inn\, Radnička cesta 21\, 10000\, Zagreb\, Croatia (Local Name: Hrvatska)
ATTACH;FMTTYPE=image/jpeg:https://themoic.hscni.net/wp-content/uploads/2025/11/1-e1763481228523.jpg
END:VEVENT
BEGIN:VEVENT
DTSTART;VALUE=DATE:20260305
DTEND;VALUE=DATE:20260306
DTSTAMP:20260421T132759
CREATED:20260421T111600Z
LAST-MODIFIED:20260421T113331Z
UID:6880-1772668800-1772755199@themoic.hscni.net
SUMMARY:FutureRx: Leveraging Advanced Specialist Pharmacists for Progress and Transformation
DESCRIPTION:Professor Michael Scott MBE took part in the Future Rx – Advanced Specialist Pharmacist Networking Day\, hosted by the HSE Spark Innovation Programme. The event brought together pharmacy and healthcare leaders from across Ireland to talk about collaboration\, innovation\, and how the role of specialist\npharmacists continues to evolve. \nProfessor Scott joined Dr Darren Walsh\, Anna Keating and Abbie McKenna to share insights on advanced specialist practice and the future direction of pharmacy. He expressed his thanks to the organisers\, fellow speakers and all who attended for an engaging and productive day
URL:https://themoic.hscni.net/event/futurerx-leveraging-advanced-specialist-pharmacists-for-progress-and-transformation/
LOCATION:Radisson Blu Royal Hotel\, Golden Lane\, Dublin 8\, Ireland
ATTACH;FMTTYPE=image/jpeg:https://themoic.hscni.net/wp-content/uploads/2026/04/Spark-Logo.jpg
END:VEVENT
BEGIN:VEVENT
DTSTART;VALUE=DATE:20260318
DTEND;VALUE=DATE:20260321
DTSTAMP:20260421T132759
CREATED:20260421T113950Z
LAST-MODIFIED:20260421T113950Z
UID:6886-1773792000-1774051199@themoic.hscni.net
SUMMARY:30th EAHP Congress in Barcelona
DESCRIPTION:Professor Michael Scott MBE and Anita Hogg recently attended the 30th EAHP Congress in Barcelona\, where they delivered two MOIC workshops on “Exploring Clinical Pharmacy Services in Hospitals: Innovations and Challenges.” Both sessions drew strong interest from colleagues across Europe
URL:https://themoic.hscni.net/event/30th-eahp-congress-in-barcelona/
LOCATION:The CCIB – Centre de Convencions Internacional de Barcelona\, Plaça de Willy Brandt 11-14\, Barcelona\, Spain
ATTACH;FMTTYPE=image/png:https://themoic.hscni.net/wp-content/uploads/2026/04/barcelona.png
END:VEVENT
END:VCALENDAR